BEGIN:VCALENDAR
VERSION:2.0
PRODID:-//Depot Dortmund//NONSGML kigkonsult.se iCalcreator 2.30.10//
CALSCALE:GREGORIAN
METHOD:PUBLISH
UID:93cff1d9-33c2-4472-b45b-5fec2d87977b
X-WR-CALNAME:iCagenda
X-WR-CALDESC:Event Management Extension for Joomla!
X-WR-RELCALID:3E26604A-50F4-4449-8B3E-E4F4932D05B5
X-WR-TIMEZONE:Europe/Berlin
BEGIN:VTIMEZONE
TZID:Europe/Berlin
BEGIN:STANDARD
TZNAME:CET
DTSTART:20241027T030000
TZOFFSETFROM:+0200
TZOFFSETTO:+0100
RDATE:20251026T030000
RDATE:20261025T030000
END:STANDARD
BEGIN:DAYLIGHT
TZNAME:CEST
DTSTART:20250330T020000
TZOFFSETFROM:+0100
TZOFFSETTO:+0200
RDATE:20260329T020000
END:DAYLIGHT
END:VTIMEZONE
BEGIN:VEVENT
UID:c82d9134-5472-4093-bd9d-4d9db9e74caf
DTSTAMP:20260422T105033Z
CATEGORIES:Sonstiges
CLASS:PUBLIC
DESCRIPTION;ALTREP="CID:<FFFF__=0ABBE548DFE235B58f9e8a93d@coffeebean.com>":
 Wir schwingen nicht das Tanzbein\, sondern die Tischtennisschläger! UMDIE 
 – der legendäre Tischtennisrundlauf aus dem Rekoder – lädt zum gemütlichen
  Plecken in den Mai. Chillige Beats\, gekühlte Getränke und nette Gesellsc
 haft sorgen für einen gemütlichen Start in den Wonnemonat. Hitzige Fights 
 an der Platte natürlich nicht ausgeschlossen. Schläger stehen bereit und a
 uch eigenes Equipment darf gerne mitgebracht werden\, um sich mit Dortmund
 s Hobbytischtenniselite zu messen.\n&nbsp\;\nGefördert von:\n&nbsp\;&nbsp\
 ;&nbsp\;&nbsp\;&nbsp\;&nbsp\;&nbsp\; \n
DTSTART:20250430T170000Z
DTEND:20250430T170000Z
GEO:00;0
LOCATION:Halle
ORGANIZER:
SEQUENCE:1
SUMMARY:UMDIE: Plecken in den Mai
TRANSP:OPAQUE
URL:https://depotdortmund.de/527-umdie-plecken-in-den-mai.html
END:VEVENT
END:VCALENDAR
