BEGIN:VCALENDAR
VERSION:2.0
PRODID:-//Depot Dortmund//NONSGML kigkonsult.se iCalcreator 2.30.10//
CALSCALE:GREGORIAN
METHOD:PUBLISH
UID:9e6baea2-55a4-4bb4-9019-fe3e21d8c2be
X-WR-CALNAME:iCagenda
X-WR-CALDESC:Event Management Extension for Joomla!
X-WR-RELCALID:3E26604A-50F4-4449-8B3E-E4F4932D05B5
X-WR-TIMEZONE:Europe/Berlin
BEGIN:VTIMEZONE
TZID:Europe/Berlin
BEGIN:STANDARD
TZNAME:CET
DTSTART:20241027T030000
TZOFFSETFROM:+0200
TZOFFSETTO:+0100
RDATE:20251026T030000
END:STANDARD
BEGIN:DAYLIGHT
TZNAME:CEST
DTSTART:20250330T020000
TZOFFSETFROM:+0100
TZOFFSETTO:+0200
RDATE:20260329T020000
END:DAYLIGHT
END:VTIMEZONE
BEGIN:VEVENT
UID:0e4e78a1-57da-46c3-afbb-2476252bdde4
DTSTAMP:20260422T101924Z
CATEGORIES:Märkte & Festivals
CLASS:PUBLIC
DESCRIPTION;ALTREP="CID:<FFFF__=0ABBE548DFE235B58f9e8a93d@coffeebean.com>":
 Der Design Gipfel ist genau das Richtige für alle\, die sich für clevere u
 nd einzigartige Produkte begeistern und obendrein noch etwas erleben möcht
 en. Wer junges Design und außergewöhnliche Dinge liebt\, kann auf dem Desi
 gn Gipfel Neuheiten entdecken\, Lieblingsteile finden oder einfach stöbern
  und schlendern.\nEs wird wie immer eine bunte Mischung aus allem angebote
 n\, was den Alltag noch schöner gestalten kann. Interior Design\, Papeteri
 e\, Schmuck\, Fashion oder Accessoires: Hier ist jedes Teil wirklich etwas
  Besonderes\, mit Liebe zum Detail und meist aus guten\, nachhaltigen Rohs
 toffen hergestellt. Zudem ist auch wieder ein kleine\, feines Rahmenprogra
 mm geplant\, das mit Kreativstationen und Unterhaltung auf die Besucher*in
 nen wartet. Lasst Euch überraschen!
DTSTART:20250404T220000Z
DTEND:20250405T220000Z
GEO:00;0
LOCATION:Halle
ORGANIZER:
SEQUENCE:1
SUMMARY:Design Gipfel
TRANSP:OPAQUE
URL:https://depotdortmund.de/525-design-gipfel-9.html
END:VEVENT
END:VCALENDAR
