BEGIN:VCALENDAR
VERSION:2.0
PRODID:-//Depot Dortmund//NONSGML kigkonsult.se iCalcreator 2.30.10//
CALSCALE:GREGORIAN
METHOD:PUBLISH
UID:a8cc1545-3e86-4bf5-a423-4dca9cf5a111
X-WR-CALNAME:iCagenda
X-WR-CALDESC:Event Management Extension for Joomla!
X-WR-RELCALID:3E26604A-50F4-4449-8B3E-E4F4932D05B5
X-WR-TIMEZONE:Europe/Berlin
BEGIN:VTIMEZONE
TZID:Europe/Berlin
BEGIN:STANDARD
TZNAME:CET
DTSTART:20231029T030000
TZOFFSETFROM:+0200
TZOFFSETTO:+0100
RDATE:20241027T030000
RDATE:20251026T030000
END:STANDARD
BEGIN:DAYLIGHT
TZNAME:CEST
DTSTART:20240331T020000
TZOFFSETFROM:+0100
TZOFFSETTO:+0200
RDATE:20250330T020000
END:DAYLIGHT
END:VTIMEZONE
BEGIN:VEVENT
UID:a602aeae-2fc2-4ea8-ac81-6920de095a5c
DTSTAMP:20260421T134257Z
CATEGORIES:Sonstiges
CLASS:PUBLIC
DESCRIPTION;ALTREP="CID:<FFFF__=0ABBE548DFE235B58f9e8a93d@coffeebean.com>":
 Am 31. August ist wieder Hafenspaziergang und beim gemütlichen Schlendern 
 durchs Quartier darf ein Stopp im Depot selbstverständlich nicht fehlen. W
 ir öffnen die Türen zum OPEN HOUSE und es gibt jede Menge kostenloses Prog
 ramm in der ganzen Hütte:  &nbsp\;\n&nbsp\;\n\nGroße Kunst - Megalympics i
 n der Mittelhalle 15:00 - 20:00 Uhr&nbsp\;\nBei den Megalympics können in 
 der Mittelhalle an verschiedenen Stationen alle möglichen Sportarten in üb
 erdimensionierter Form ausprobiert werden. Visuell passen die Stationen si
 ch ihrem kreativen Umfeld an. Schon mal mit gigantischen Farbtuben gekegel
 t? Ein großer Spaß für Familie\, Freund*innen und Nachbarschaft!&nbsp\;\nF
 olgenden Disziplinen laden dazu ein\, das eigene Geschick zu testen:&nbsp\
 ;&nbsp\;\nKolossales Kegeln&nbsp\;\nTitanen Tischtennis&nbsp\;&nbsp\;\nMeg
 a Murmelmikado&nbsp\;\nKrocket&nbsp\;\nFußbillard&nbsp\;\n&nbsp\;\n\nKolle
 ktives Wimmelbild - Eingangsbereich Mittelhalle 15:00 -20:00 Uhr&nbsp\;&nb
 sp\;\nViele einzelne Teile\, ein riesiges Kunstwerk: Im Eingangsbereich wä
 chst beim OPEN HOUSE ein großformatiges Bild\, das von allen Besucher*inne
 n gemeinsam gestaltet wird. Per Würfel wird entschieden\, welches Feld der
  Gesamtfläche als nächstes an der Reihe ist. Mit Pinseln und Stiften entst
 eht so nach und nach ein großes Ganzes. Abstrakte Formen\, bunte Muster\, 
 Blumen oder Delfine - der Fantasie sind keine Grenzen gesetzt und man darf
  gespannt sein\, wie sich am Ende alles zusammenfügt.&nbsp\;\n&nbsp\;\nSta
 ffelführungen Treffpunkt jeweils um 15:30 Uhr &amp\; 16:30 Uhr im Eingangs
 bereich der Mittelhalle\, Dauer ca. eine Stunde&nbsp\;\nWas passiert im De
 pot eigentlich hinter den Kulissen und wer tummelt sich so alles in den vi
 elen Räumen der ehemaligen Straßenbahnwerkstatt? Die verschiedenen Akteur*
 innen des Hauses geben untereinander den Staffelstab weiter und gewähren E
 inblicke in ihre Arbeit und das Gebäude.&nbsp\;&nbsp\;\n&nbsp\;\n\nTombola
  - in der Depot-Ecke gewinnt jedes Los 15:00 - 19:00 Uhr&nbsp\;&nbsp\;\nDi
 e Depot-Ecke im vorderen Eingangsbereich beherbergt nicht nur die Schaukäs
 ten der Depot-Künstler*innen\, sondern wird beim OPEN HOUSE auch zur Losbu
 de: Die Kreativen des Hauses steuern aus ihrem Fundus kleine und große Kun
 stwerke bei\, die ein neues Zuhause suchen. Malerei\, Zeichnung\, Druckgra
 fik\, Foto und Objekt – bei den Tombola-Preisen ist alles vertreten. Jedes
  Los ist ein Treffer und der Erlös wird an die Kana Suppenküche in der Dor
 tmunder Nordstadt gespendet.&nbsp\;&nbsp\;\n&nbsp\;\n\nItalienverein - Hin
 terhof des Depots 15:00 - 19:00 Uhr&nbsp\;\nEgal ob Büchertausch-Tisch ode
 r Flohmarkt - große und kleine Italienfans kommen hier beim Stöbern auf ih
 re Kosten.&nbsp\;Special:\n17:00 Uhr: Lesung für Kinder&nbsp\;\n&nbsp\;\n
 \nMega Hot - Wachsbilder im Atelier 18&nbsp\; 15:00 - 19:00 Uhr&nbsp\;&nbs
 p\;\nIm Atelier von Susanne Beringer kann in die farbige Welt der Enkausti
 k Malerei geschnuppert werden. Auf einer heißen Malplatte wird mit geschmo
 lzenem und pigmentiertem Bienenwachs experimentiert. Es entstehen lebendig
 e und ausdrucksstarke Kunstwerke auf Papier.&nbsp\;\nAltersempfehlung: ab 
 8 Jahren&nbsp\;\n&nbsp\;\n\nMega Mini – Druckwerkstatt im Atelier 15.1 15:
 00 – 19:00 Uhr&nbsp\;&nbsp\;\nAlle\, die sich für die Druckkunst interessi
 eren\, sind herzlich eingeladen\, „megakleine“ Monotypien zu erstellen. Im
  Atelier von Bärbel Thier-Jaspert und Michael Jaspert stehen Papier und Fa
 rbe für Druckexperimente bereit.&nbsp\;\nAltersempfehlung: ab 8 Jahren&nbs
 p\;\n&nbsp\;\n\nOffene Ateliers - ganzes Haus 15:00 - 19:00 Uhr&nbsp\;\nAu
 ch ohne festes Programm - die Künstler*innen des Depots laden in ihre Atel
 iers ein und freuen sich auf einen Plausch mit den Besucher*innen. Die Tür
 en stehen offen bei:&nbsp\;&nbsp\;\nKaroline Hoffmann-Pudelko\, Ümran Kerm
 an\, Susanne Beringer\, Lutz Kemper\, Bärbel Thier-Jaspert\, Susanne Schüt
 z\, Barbara Wozniak\, Christiane Heetmann und Heike Kollakowski.&nbsp\;&nb
 sp\;\n&nbsp\;\n\nPhysical Theatre - im und ums Depot&nbsp\; Ab 15:00 Uhr&n
 bsp\;&nbsp\;\nIn Kooperation mit dem Physical Theatre Netzwerk sorgt das T
 heater im Depot für spannende Momente und Begegnungen\, die die Erzählkraf
 t von Körper\, Raum\, Objekt und Bewegungen ausschöpfen. Eine wunderbare G
 elegenheit\, die Theaterform Physical Theatre kennenzulernen!&nbsp\;\n&nbs
 p\;\n\nFolge dem Hasen - Geocaching drinnen &amp\; draußen 15:00 - 20:00 U
 hr&nbsp\;&nbsp\;\nEin helfender Hase\, viele kleine Rätsel und ein mysteri
 öser Schatz: Künstlerin Karoline Hoffmann-Pudelko aus dem Atelier 15.2. ha
 t eine spannende GPS-Schatzsuche angelegt\, bei der ein dreistelliger Code
  entschlüsselt werden muss\, um ans Ziel zu gelangen.&nbsp\;&nbsp\;\n&nbsp
 \;\n\nUnd sonst so?15:00 – 20:00 Uhr \nChillige Beats\, kalte Drinks und l
 ockere Atmosphäre: Egal ob unser Haustechniker Thomas (aka Baba Smurf) an 
 den Plattentellern\, die Crew vom Atelier Amore an der Cocktail-Theke oder
  das Theater-Team an der Bar im Foyer – in der Mittelhalle wird bestens fü
 r Euch gesorgt. Der Pommeswagen ist auch am Start\, was will man mehr! &nb
 sp\;&nbsp\;\n&nbsp\;\nUnd wer auf dem Weg zum oder vom Depot noch Lust auf
  ein bisschen Urban Art hat\, nimmt am besten ein paar Kunstwerke auf dem 
 RADIUS Rundgang mit\, die im öffentlichen Raum des Quartiers zu finden sin
 d.&nbsp\;&nbsp\;&nbsp\;\n&nbsp\;\nGefördert von:\n&nbsp\;\n&nbsp\;&nbsp\; 
 &nbsp\;&nbsp\;&nbsp\;&nbsp\; &nbsp\; &nbsp\; &nbsp\; &nbsp\;
DTSTART:20240831T130000Z
DTEND:20240831T130000Z
GEO:00;0
LOCATION:Ganzes Haus
ORGANIZER:
SEQUENCE:1
SUMMARY:Open House @ Hafenspaziergang
TRANSP:OPAQUE
URL:https://depotdortmund.de/496-open-house-hafenspaziergang/2024-08-31-15-
 00.html
END:VEVENT
END:VCALENDAR
